BEGIN:VCALENDAR
VERSION:2.0
PRODID:-//Tukios.com/
BEGIN:VEVENT
UID:4a92a4f4-6325-4461-b612-62a230ebd6c5@www.newcomeralbany.com
DTSTAMP:20260423T165904Z
DTSTART:20260502T160000Z
DTEND:20260502T170000Z
SUMMARY:Funeral Service
DESCRIPTION:
URL:https://www.newcomeralbany.com/obituaries/robert-ogren
LOCATION: 181 Troy-Schenectady Rd  Watervliet NY 12189
GEO:42.7385015;-73.7298502
END:VEVENT
END:VCALENDAR