BEGIN:VCALENDAR
VERSION:2.0
PRODID:-//Tukios.com/
BEGIN:VEVENT
UID:0eeb7c1c-9629-4e2c-b60c-4a1325675dea@www.newcomeralbany.com
DTSTAMP:20260423T170037Z
DTSTART:20260502T140000Z
DTEND:20260502T160000Z
SUMMARY:Visitation
DESCRIPTION:
URL:https://www.newcomeralbany.com/obituaries/robert-ogren
LOCATION: 181 Troy-Schenectady Rd  Watervliet NY 12189
GEO:42.7385015;-73.7298502
END:VEVENT
END:VCALENDAR