BEGIN:VCALENDAR
VERSION:2.0
PRODID:-//Tukios.com/
BEGIN:VEVENT
UID:ba77e207-c17f-46c1-9908-fa49ccd6f016@www.newcomeralbany.com
DTSTAMP:20260425T190941Z
DTSTART:20260501T140000Z
DTEND:20260501T150000Z
SUMMARY:Celebration of Life
DESCRIPTION:
URL:https://www.newcomeralbany.com/obituaries/naomi-garner
LOCATION: 181 Troy-Schenectady Rd  Watervliet NY 12189
GEO:42.7385015;-73.7298502
END:VEVENT
END:VCALENDAR