BEGIN:VCALENDAR
VERSION:2.0
PRODID:-//Tukios.com/
BEGIN:VEVENT
UID:50e2b9ba-1b75-4bd6-8087-bc26b5d14dfd@www.newcomeralbany.com
DTSTAMP:20260425T191048Z
DTSTART:20260430T200000Z
DTEND:20260430T230000Z
SUMMARY:Visitation
DESCRIPTION:
URL:https://www.newcomeralbany.com/obituaries/naomi-garner
LOCATION: 181 Troy-Schenectady Rd  Watervliet NY 12189
GEO:42.7385015;-73.7298502
END:VEVENT
END:VCALENDAR