BEGIN:VCALENDAR
VERSION:2.0
PRODID:-//Tukios.com/
BEGIN:VEVENT
UID:acc4269f-0378-4f5f-b7cd-f21a8dd82c17@www.newcomeralbany.com
DTSTAMP:20260419T164927Z
DTSTART:20260604T140000Z
DTEND:20260604T160000Z
SUMMARY:Visitation
DESCRIPTION:
URL:https://www.newcomeralbany.com/obituaries/mary-gloria-miller
LOCATION: 343 New Karner Rd  Colonie NY 12205
GEO:42.7290079;-73.8543057
END:VEVENT
END:VCALENDAR