BEGIN:VCALENDAR
VERSION:2.0
PRODID:-//Tukios.com/
BEGIN:VEVENT
UID:c090a230-111f-4a05-bf49-ea0237d5e2fc@www.newcomeralbany.com
DTSTAMP:20260422T175753Z
DTSTART:20260501T143000Z
DTEND:20260501T153000Z
SUMMARY:Mass
DESCRIPTION:
URL:https://www.newcomeralbany.com/obituaries/luz-mercader
LOCATION: 16 Homestead Street  Albany NY 12203
GEO:42.6715907;-73.8056556
END:VEVENT
END:VCALENDAR