BEGIN:VCALENDAR
VERSION:2.0
PRODID:-//Tukios.com/
BEGIN:VEVENT
UID:418d2e1c-9a4b-4d44-972e-dc0a27bbcc42@www.newcomeralbany.com
DTSTAMP:20260422T234809Z
DTSTART:20260429T213000Z
DTEND:20260429T223000Z
SUMMARY:Celebration of Life
DESCRIPTION:
URL:https://www.newcomeralbany.com/obituaries/joan-van-apeldoorn
LOCATION: 343 New Karner Rd  Colonie NY 12205
GEO:42.7290079;-73.8543057
END:VEVENT
END:VCALENDAR