BEGIN:VCALENDAR
VERSION:2.0
PRODID:-//Tukios.com/
BEGIN:VEVENT
UID:129fbeb6-e585-4e97-896a-cd7715b21b91@www.newcomeralbany.com
DTSTAMP:20260420T235859Z
DTSTART:20260428T173000Z
DTEND:20260428T174500Z
SUMMARY:Graveside Service
DESCRIPTION:
URL:https://www.newcomeralbany.com/obituaries/janis-butts
LOCATION: 200 Duell Road  Schuylerville NY 12871
GEO:43.0261327;-73.6151241
END:VEVENT
END:VCALENDAR