BEGIN:VCALENDAR
VERSION:2.0
PRODID:-//Tukios.com/
BEGIN:VEVENT
UID:ca55dca8-b7fd-4b4b-a9e6-8825705d88b7@www.newcomeralbany.com
DTSTAMP:20260422T222454Z
DTSTART:20260424T180000Z
DTEND:20260424T190000Z
SUMMARY:Interment
DESCRIPTION:
URL:https://www.newcomeralbany.com/obituaries/donald-m-marr
LOCATION: 1389 Central Avenue  Albany NY 12205
GEO:42.7055552;-73.8185412
END:VEVENT
END:VCALENDAR