BEGIN:VCALENDAR
VERSION:2.0
PRODID:-//Tukios.com/
BEGIN:VEVENT
UID:d1dd33b3-e82e-496b-bd7a-702141001f2d@www.newcomeralbany.com
DTSTAMP:20260422T221747Z
DTSTART:20260427T150000Z
DTEND:20260427T170000Z
SUMMARY:Visitation
DESCRIPTION:
URL:https://www.newcomeralbany.com/obituaries/donald-m-marr
LOCATION: 181 Troy-Schenectady Rd  Watervliet NY 12189
GEO:42.7385015;-73.7298502
END:VEVENT
END:VCALENDAR