BEGIN:VCALENDAR
VERSION:2.0
PRODID:-//Tukios.com/
BEGIN:VEVENT
UID:91963fd1-ab52-4dfe-9a8a-2949050df216@www.newcomeralbany.com
DTSTAMP:20260422T222136Z
DTSTART:20260428
SUMMARY:Entombment
DESCRIPTION:
URL:https://www.newcomeralbany.com/obituaries/domenico-rao
LOCATION: 983 Watervliet Shaker Road  Albany NY 12205
GEO:42.7395884;-73.8295256
END:VEVENT
END:VCALENDAR