BEGIN:VCALENDAR
VERSION:2.0
PRODID:-//Tukios.com/
BEGIN:VEVENT
UID:32fa0bac-8437-4d02-b0be-e1a6fd85c6da@www.newcomeralbany.com
DTSTAMP:20260422T221701Z
DTSTART:20260428T150000Z
DTEND:20260428T160000Z
SUMMARY:Funeral Service
DESCRIPTION:
URL:https://www.newcomeralbany.com/obituaries/domenico-rao
LOCATION: 343 New Karner Rd  Colonie NY 12205
GEO:42.7290079;-73.8543057
END:VEVENT
END:VCALENDAR