BEGIN:VCALENDAR
VERSION:2.0
PRODID:-//Tukios.com/
BEGIN:VEVENT
UID:112c8ba7-7a90-4286-81bd-d5a72bb6d2c2@www.newcomeralbany.com
DTSTAMP:20260422T222126Z
DTSTART:20260427T200000Z
DTEND:20260427T230000Z
SUMMARY:Viewing
DESCRIPTION:
URL:https://www.newcomeralbany.com/obituaries/domenico-rao
LOCATION: 343 New Karner Rd  Colonie NY 12205
GEO:42.7290079;-73.8543057
END:VEVENT
END:VCALENDAR