BEGIN:VCALENDAR
VERSION:2.0
PRODID:-//Tukios.com/
BEGIN:VEVENT
UID:d9773853-e894-48b1-963f-8d45825e3b4c@www.newcomeralbany.com
DTSTAMP:20260424T174047Z
DTSTART:20260428T230000Z
DTEND:20260429T000000Z
SUMMARY:Memorial Gathering
DESCRIPTION:
URL:https://www.newcomeralbany.com/obituaries/brian-boyagian
LOCATION: 343 New Karner Rd  Colonie NY 12205
GEO:42.7290079;-73.8543057
END:VEVENT
END:VCALENDAR