BEGIN:VCALENDAR
VERSION:2.0
PRODID:-//Tukios.com/
BEGIN:VEVENT
UID:b7bf0425-ccbd-41d0-a055-104c5d558218@www.newcomeralbany.com
DTSTAMP:20260424T174015Z
DTSTART:20260502T190000Z
DTEND:20260502T200000Z
SUMMARY:Memorial Service
DESCRIPTION:
URL:https://www.newcomeralbany.com/obituaries/brian-boyagian
LOCATION: 1720 Albany Street  Schenectady NY 12304
GEO:42.7904282;-73.9204287
END:VEVENT
END:VCALENDAR